BEGIN:VCALENDAR
VERSION:2.0
BEGIN:VEVENT
SUMMARY:Koppeltoernooi De Sjoelschijf Kennemerland
DTSTART;TZID=Europe/Amsterdam:20261024T10100
DTEND;TZID=Europe/Amsterdam:20261024T16100
DESCRIPTION:Koppeltoernooi De Sjoelschijf Kennemerland op 24 oktober 2026..
STATUS:CONFIRMED
END:VEVENT
END:VCALENDAR