BEGIN:VCALENDAR
VERSION:2.0
BEGIN:VEVENT
SUMMARY:Koppeltoernooi Sjoelvereniging Zaanstad
DTSTART;TZID=Europe/Amsterdam:20260411T10100
DTEND;TZID=Europe/Amsterdam:20260411T16100
LOCATION:Sjoelzaal sjoelvereniging Zaanstad
Bloemgracht 56
1502 VC Zaandam..
DESCRIPTION:Koppeltoernooi Sjoelvereniging Zaanstad op zaterdag 11 april 2026..
STATUS:CONFIRMED
END:VEVENT
END:VCALENDAR